BEGIN:VCALENDAR
VERSION:2.0
PRODID:http://kuratie-neuengruen.de
BEGIN:VEVENT
UID:ceb19f94-36ba-11f1-a8bf-0242ac11002b-1777566600000-de
DTSTAMP:20260412T215858Z
DTSTART:20260430T163000Z
DTEND:20260430T170000Z
SUMMARY;LANGUAGE=de:Hl. Messe für Neuengrün, Wolfersgrün und Schnaid
END:VEVENT
END:VCALENDAR
