BEGIN:VCALENDAR
VERSION:2.0
PRODID:http://kuratie-neuengruen.de
BEGIN:VEVENT
UID:69b83d77-37e0-11f1-a8bf-0242ac11002b-1778603400000-de
DTSTAMP:20260414T090041Z
DTSTART:20260512T163000Z
DTEND:20260512T173000Z
SUMMARY;LANGUAGE=de:Bittprozession zur Kapelle Gareis, Neuengrün 14
END:VEVENT
END:VCALENDAR
